BEGIN:VCALENDAR
VERSION:2.0
PRODID:-//Tukios.com/
BEGIN:VEVENT
UID:c45f19f4-037b-43b0-aa30-ebe3a83e9240@www.vaughanguynn.com
DTSTAMP:20260424T200210Z
DTSTART:20260430T160000Z
DTEND:20260430T170000Z
SUMMARY:Funeral Service
DESCRIPTION:
URL:https://www.vaughanguynn.com/obituaries/thomas-tf-rutherford
LOCATION: 201 W Center St  Galax VA 24333
GEO:36.6620201;-80.9265197
END:VEVENT
END:VCALENDAR