BEGIN:VCALENDAR
VERSION:2.0
PRODID:-//Tukios.com/
BEGIN:VEVENT
UID:75546a61-b26e-4a8d-8fdb-db04e36d5714@www.vaughanguynn.com
DTSTAMP:20260424T221215Z
DTSTART:20260428T180000Z
DTEND:20260428T190000Z
SUMMARY:Funeral Service
DESCRIPTION:
URL:https://www.vaughanguynn.com/obituaries/mary-elizabeth-joines
LOCATION: 201 W Center St  Galax VA 24333
GEO:36.6620201;-80.9265197
END:VEVENT
END:VCALENDAR