BEGIN:VCALENDAR
VERSION:2.0
PRODID:-//Tukios.com/
BEGIN:VEVENT
UID:695e6263-f749-4a44-adb7-fe299589144d@www.vaughanguynn.com
DTSTAMP:20260424T221416Z
DTSTART:20260428T170000Z
DTEND:20260428T180000Z
SUMMARY:Visitation
DESCRIPTION:
URL:https://www.vaughanguynn.com/obituaries/mary-elizabeth-joines
LOCATION: 201 W Center St  Galax VA 24333
GEO:36.6620201;-80.9265197
END:VEVENT
END:VCALENDAR