BEGIN:VCALENDAR
VERSION:2.0
PRODID:-//Tukios.com/
BEGIN:VEVENT
UID:786737de-6c3c-45d7-b0cb-19be71e4505e@www.vaughanguynn.com
DTSTAMP:20260423T220602Z
DTSTART:20260429T150000Z
DTEND:20260429T160000Z
SUMMARY:Graveside Service
DESCRIPTION:
URL:https://www.vaughanguynn.com/obituaries/klyce-sayers
LOCATION: 2179 Poplar Knob Road  Galax VA 24333
GEO:36.6642479;-80.8875961
END:VEVENT
END:VCALENDAR