BEGIN:VCALENDAR
VERSION:2.0
PRODID:-//Tukios.com/
BEGIN:VEVENT
UID:1be5ee4e-2afd-482a-ae65-932f7294e41e@www.vaughanguynn.com
DTSTAMP:20260423T234507Z
DTSTART:20260427
SUMMARY:Burial
DESCRIPTION:
URL:https://www.vaughanguynn.com/obituaries/jefferson-morris
LOCATION: 846 Glendale Road  Galax VA 24333
GEO:36.6800583;-80.9093671
END:VEVENT
END:VCALENDAR