BEGIN:VCALENDAR
VERSION:2.0
PRODID:-//Tukios.com/
BEGIN:VEVENT
UID:5f4b9e9a-1b99-43d7-b3a2-151b49d3f04e@www.vaughanguynn.com
DTSTAMP:20260423T234803Z
DTSTART:20260427T180000Z
DTEND:20260427T190000Z
SUMMARY:Funeral Service
DESCRIPTION:
URL:https://www.vaughanguynn.com/obituaries/jefferson-morris
LOCATION: 201 W Center St  Galax VA 24333
GEO:36.6620201;-80.9265197
END:VEVENT
END:VCALENDAR