BEGIN:VCALENDAR
VERSION:2.0
PRODID:-//Tukios.com/
BEGIN:VEVENT
UID:b9811057-24fb-44dc-ab96-4a6928ead5f4@www.vaughanguynn.com
DTSTAMP:20260423T234815Z
DTSTART:20260427T160000Z
DTEND:20260427T180000Z
SUMMARY:Visitation
DESCRIPTION:
URL:https://www.vaughanguynn.com/obituaries/jefferson-morris
LOCATION: 201 W Center St  Galax VA 24333
GEO:36.6620201;-80.9265197
END:VEVENT
END:VCALENDAR