BEGIN:VCALENDAR
VERSION:2.0
PRODID:-//Tukios.com/
BEGIN:VEVENT
UID:5061b739-4d9b-4a2c-b32e-aa62262ec5ca@www.vaughanguynn.com
DTSTAMP:20260422T230538Z
DTSTART:20260425T180000Z
DTEND:20260425T190000Z
SUMMARY:Visitation
DESCRIPTION:
URL:https://www.vaughanguynn.com/obituaries/debra-davis
LOCATION: 201 W Center St  Galax VA 24333
GEO:36.6620201;-80.9265197
END:VEVENT
END:VCALENDAR